BEGIN:VCALENDAR
PRODID:-//Microsoft Corporation//Outlook 12.0 MIMEDIR//EN
VERSION:2.0
METHOD:PUBLISH
X-MS-OLK-FORCEINSPECTOROPEN:TRUE
BEGIN:VEVENT
CLASS:PUBLIC
DESCRIPTION: 
DTEND:20260115T02:00:00Z
DTSTAMP:20260421T08:04:46Z
DTSTART:20260115T01:00:00Z
LAST-MODIFIED:20260421T08:04:46Z
LOCATION: Online[location]
SUMMARY;LANGUAGE=en-us:Webinar - Technical Movement Analysis vs Teaching Movement Analysis
UID:20260421T08:04:46Z-16263-417400775
END:VEVENT
END:VCALENDAR
