BEGIN:VCALENDAR
PRODID:-//Microsoft Corporation//Outlook 12.0 MIMEDIR//EN
VERSION:2.0
METHOD:PUBLISH
X-MS-OLK-FORCEINSPECTOROPEN:TRUE
BEGIN:VEVENT
CLASS:PUBLIC
DESCRIPTION: 
DTEND:20260507T02:00:00Z
DTSTAMP:20260423T13:41:33Z
DTSTART:20260507T01:00:00Z
LAST-MODIFIED:20260423T13:41:33Z
LOCATION: Online[location]
SUMMARY;LANGUAGE=en-us:Members Meeting: Special Session
UID:20260423T13:41:33Z-18999-836706068
END:VEVENT
END:VCALENDAR
